BEGIN:VCALENDAR
VERSION:2.0
PRODID:-//ChamberMaster//Event Calendar 2.0//EN
METHOD:PUBLISH
X-PUBLISHED-TTL:P3D
REFRESH-INTERVAL:P3D
CALSCALE:GREGORIAN
BEGIN:VEVENT
DTSTART:20220915T230000Z
DTEND:20220916T020000Z
X-MICROSOFT-CDO-ALLDAYEVENT:FALSE
SUMMARY:VERO NETWORK's 8th Annual Business Round Up
DESCRIPTION:All of the public is invited to join us for a Show Down of our Local Business Community! Experience a sampling of the local business community while supporting local merchants as you enjoy live music\, giveaways\, Moe's BBQ sliders and Mountain Beverage's array of drinks. All attendees age 21 & above receive 2 free drink tickets. \n\n\n\nExhibitor giveaways will be presented by special guests Autumn Heinbaugh and Leila Devins\, Eagle County's 2023 Fair & Rodeos Queen and Princess!\n\n\n\nExhibitors show off their dynamic company culture and display their invitation for hire sporting a yellow balloon at their booth. \n\n\n\nCome and spend the evening with us and get a taste of our local business culture. Show them you support their commitment to bring their services to our community!
X-ALT-DESC;FMTTYPE=text/html:All of the public is invited to join us for a Show Down of our Local Business Community! Experience a sampling of the local business community while supporting local merchants as you enjoy live music\, giveaways\, Moe&#39\;s BBQ sliders and Mountain Beverage&#39\;s array of drinks. A<span style="font-family: sans-serif\, Arial\, Verdana\, &quot\;Trebuchet MS&quot\;\; font-size: 13px\; background-color: rgb(255\, 255\, 255)\;">ll attendees age 21 &amp\; above receive 2 free drink tickets.&nbsp\;</span><br />\n<br />\n<span style="color:#000000\;">Exhibitor giveaways will be presented by special guests Autumn Heinbaugh and Leila Devins\, Eagle County&#39\;s 2023 Fair &amp\; Rodeos Queen and Princess!<br />\n<br />\nExhibitors show off their dynamic company culture and display their invitation for hire sporting a yellow balloon at their booth.&nbsp\;</span><br />\n<br />\nCome and spend the evening with us and get a taste of our local business culture. Show them you support their commitment to bring their services to our community!<br />\n<br />\n&nbsp\;
LOCATION:VERO NETWORKS 8th Annual Business Round Up will be held at the Exhibit Hall at the Eagle County Fairgrounds. This is the first entrance to the Fairgrounds in the gray building. Turn right from the entrance and park. Use the west building entrance.
UID:e.2268.1174
SEQUENCE:3
DTSTAMP:20260425T190352Z
URL:https://business.eaglechamber.co/events/details/vero-network-s-8th-annual-business-round-up-1174
END:VEVENT

END:VCALENDAR
