BEGIN:VCALENDAR
VERSION:2.0
PRODID:-//ChamberMaster//Event Calendar 2.0//EN
METHOD:PUBLISH
X-PUBLISHED-TTL:P3D
REFRESH-INTERVAL:P3D
CALSCALE:GREGORIAN
BEGIN:VEVENT
DTSTART:20220817T230000Z
DTEND:20220818T010000Z
X-MICROSOFT-CDO-ALLDAYEVENT:FALSE
SUMMARY:VVP Mixer at All Mountain Technologies
DESCRIPTION:SAVE THE DATE for the Vail Valley Partnership (VVP) Mixer hosted by All Mountain Technologies. Come network for a good cause while enjoying wine\, beer\, cocktails and delicious food from Mountain Fish House. Featured Non-Profit is SpeakUp ReachOut. Please RSVP and we hope to see you there!
X-ALT-DESC;FMTTYPE=text/html:<span style="color:rgb(85\, 85\, 85)\; font-family:lato\,helvetica\,arial\,sans-serif\; font-size:14px">SAVE THE DATE for the Vail Valley Partnership (VVP) Mixer hosted by All Mountain Technologies. Come network for a good cause while enjoying wine\, beer\, cocktails and delicious food from Mountain Fish House. Featured Non-Profit is SpeakUp ReachOut. Please <a href="https://www.vailvalleypartnership.com/event/after-hours-mixer-all-mountain-technologies/">RSVP </a>and we hope to see you there!</span>
LOCATION:27 Main Street\, Suite 200 Edwards\, CO 81632 (above Zino's Restaurant)
UID:e.2268.1346
SEQUENCE:3
DTSTAMP:20260425T204320Z
URL:https://business.eaglechamber.co/events/details/vvp-mixer-at-all-mountain-technologies-1346
END:VEVENT

END:VCALENDAR
