BEGIN:VCALENDAR
VERSION:2.0
PRODID:-//ChamberMaster//Event Calendar 2.0//EN
METHOD:PUBLISH
X-PUBLISHED-TTL:P3D
REFRESH-INTERVAL:P3D
CALSCALE:GREGORIAN
BEGIN:VEVENT
DTSTART;VALUE=DATE:20241205
DTEND;VALUE=DATE:20241208
TRANSP:TRANSPARENT
X-MICROSOFT-CDO-ALLDAYEVENT:TRUE
SUMMARY:Wassailfest
DESCRIPTION:Congratulations\, Canela Coffee & Pastry Shop for winning as 2024's Wassailmeister!\n\n\n\n\n\nWhat happens at Wassailfest?\n\n\n\nDrink wassail\, of course - to the 'health' of the community!\n\n\n\nWassailers are invited to sample unique recipes of wassail at participating businesses during their business hours of operation. Wassailers then vote for their favorite. In the spirit of giving\, if you would like to donate a gift certificate to be handed out to  wassailers who have sampled and voted for at least 12 different participating businesses\, please contact Patty Hood from Hood Insurance Agency at hoodinsurance@allinsgrp.com or Taun Sanders from Circle-A Auto Repair at circlea@live.com. Voter cards can be obtained from participating businesses. Donated gift certificates will be given out to wassailers while supplies last on the last day of Wassailfest\, Saturday\, December 7th at 6:30 pm at Second Street Tavern.  All Wassailers who have submitted their voter cards will be entered into a drawing for the chance to win a Caliente Portable Charcoal Grill Cooler\, compliments of Comerford Insurance Agency!\n\n\n\nBelow are the Wassailfest participating businesses:\n\n\n\n-Antler's and Rose - 139 Broadway\, Suite C-139 in Eagle\n\n-ARTSPaCE Workshop+Gallery - 120 Broadway in Eagle\n\n-Berkshire Hathaway HomeServices Colorado Properties - 1140 Capitol St.\, #101 in Eagle\n\n-Canela Coffee and Pastry Shop - 228 Broadway in Eagle\n\n-Capitol Public House - 1099 Capitol Street in Eagle\n\n-Copy Plus - 960 Chambers Avenue in Eagle\n\n-Designs by Vikki - 105 Capitol Street\, Suite 1 in Eagle\n\n-Edward Jones - 35 Lindbergh Drive\, Suite 101 in Gypsum\n\n-Flower Hound - 115 E. Second Street in Eagle\n\n-FOODsmith - 318 Broadway in Eagle\n\n-Grand Avenue Grill - 678 Grand Avenue in Eagle\n\n-Mountain Animal Hospital Center - 341 Broadway in Eagle\n\n-Natural Balance Spa - 200 Capitol Street\, Suite 201 in Eagle\n\n-Pazzo's Pizzeria - 0050 Chambers Avenue in Eagle\n\n-Red Canyon Cafe - 128 Broadway in Eagle\n\n-Sweet Leaf Pioneer - 825 Chambers Avenue in Eagle\n\n-Town of Eagle - 200 Broadway in Eagle\n\n-Twisted Root Bistro - 313 Chambers Avenue\, Suite G in Eagle\n\n-Vintage Green - 410 Broadway in Eagle\n\n \n\nEagle Chamber Wassailfest History\n\n\n\nIn 2015\, Eagle Wassailfest was added to the Eagle Chamber's activities. \n\n\n\nWhat is Wassail (sounds like 'wassle')?\n\n\n\nIn Old English\, the word meant 'be you healthy'\; it came to be known as hot mulled cider. Traditionally\, sipped during wassailing\, a medieval ritual intended to ensure a good cider apple harvest the following year. \n\n\n\nKnapp Harvest was crowned 2023 and 2022 WassailMeister as more wassailers voted in favor of their secrete recipe. Knapp Harvest was awarded the coveted Wassailfest Trophy\, which is held for one year. The furry wassail squirrel\, handed over to Knapp Harvest from 2021 WassailMeister ROAM. Adrienne Cavallario of ROAM EAGLE\, named the wassail squirrel 'Andy'\, to honor the memory of beloved Andy Jessen of Bonfire Brewing. Bonfire Brewing was named 2020's WassailMeister.
X-ALT-DESC;FMTTYPE=text/html:<p><br />\n<br />\n<span style="font-family:arial\;"><strong><span style="font-size:18px\;"><span background-color:="" font-size:="" trebuchet=""><span style="color:#008000\;">Congratulations\,</span><span style="color:#696969\;"><strong><span style="font-size:18px\;"><span background-color:="" font-size:="" trebuchet=""> </span></span></strong></span><a href="https://www.instagram.com/canela.eagle/"><span style="color:#0000FF\;">Canela&nbsp\;Coffee &amp\; Pastry Shop</span></a><span style="color:#696969\;"><strong><span style="font-size:18px\;"><span background-color:="" font-size:="" trebuchet=""> </span></span></strong></span><span style="color:#008000\;">for winning as 2024&#39\;s Wassailmeister!</span></span></span></strong><br />\n<br />\n<br />\n<span style="color:#696969\;"><strong><span style="font-size:18px\;"><span background-color:="" font-size:="" trebuchet="">What happens at Wassailfest?</span></span></strong><br background-color:="" font-size:="" style="color: rgb(51\, 51\, 51)\; font-family: sans-serif\, Arial\, Verdana\, " trebuchet="" />\n<br background-color:="" font-size:="" style="color: rgb(51\, 51\, 51)\; font-family: sans-serif\, Arial\, Verdana\, " trebuchet="" />\n<span style="font-size:16px\;"><span background-color:="" font-size:="" trebuchet="">Drink wassail\, of course - to the &#39\;health&#39\; of the community!</span><br />\n<br />\nWassailers are invited to sample unique recipes of wassail at participating businesses during their business hours of operation. Wassailers then&nbsp\;vote for their favorite. In the spirit of giving\, if you would like to donate a gift certificate to be handed out to&nbsp\; wassailers who have sampled and voted for at least 12 different participating businesses\, please contact Patty Hood from&nbsp\;</span></span><span style="font-size:16px\;"><a class="docs-creator" href="https://www.hoodinsuranceagency.com/"><span style="color:#0000FF\;">Hood Insurance Agency</span></a></span><span style="color:#696969\;"><span style="font-size:16px\;"> at </span></span><span style="font-size:16px\;"><a class="docs-creator" href="mailto:hoodinsurance@allinsgrp.com"><span style="color:#0000FF\;">hoodinsurance@allinsgrp.com</span></a></span><span style="color:#696969\;"><span style="font-size:16px\;"> or Taun Sanders from&nbsp\;</span></span><span style="font-size:16px\;"><a class="docs-creator" href="http://www.circleaauto.com/"><span style="color:#0000FF\;">Circle-A Auto Repair</span></a></span><span style="color:#696969\;"><span style="font-size:16px\;"> at </span></span><span style="font-size:16px\;"><a class="docs-creator" href="mailto:circlea@live.com"><span style="color:#0000FF\;">circlea@live.com</span></a></span><span style="color:#696969\;"><span style="font-size:16px\;">. Voter cards can be obtained from participating businesses. Donated gift certificates will be given out to wassailers while supplies last on the last day of Wassailfest\, Saturday\, December 7th at 6:30 pm at </span></span><span style="font-size:16px\;"><a class="docs-creator" href="https://2ndstreeteagle.com/"><span style="color:#0000FF\;">Second Street Tavern</span></a></span><span style="color:#696969\;"><span style="font-size:16px\;">.&nbsp\;&nbsp\;All Wassailers who have submitted their voter cards will be entered into a drawing for the chance to win a Caliente Portable Charcoal Grill Cooler\, compliments of </span></span><span style="font-size:16px\;"><a class="docs-creator" href="https://www.willcomerford.com/?cmpid=bu53_blm_0001"><span style="color:#0000FF\;">Comerford Insurance Agency</span></a></span><span style="color:#696969\;"><span style="font-size:16px\;">!<br />\n<br />\nBelow are the Wassailfest participating businesses:</span></span></span><br />\n<br />\n<span style="color: rgb(105\, 105\, 105)\; font-family: arial\; font-size: 16px\; background-color: rgb(255\, 255\, 255)\;">-Antler&#39\;s and Rose - 139 Broadway\, Suite C-139 in Eagle</span><br style="color: rgb(105\, 105\, 105)\; font-family: arial\; font-size: 16px\; background-color: rgb(255\, 255\, 255)\;" />\n<span style="color: rgb(105\, 105\, 105)\; font-family: arial\; font-size: 16px\; background-color: rgb(255\, 255\, 255)\;">-ARTSPaCE Workshop+Gallery - 120 Broadway in Eagle<br />\n-Berkshire Hathaway HomeServices Colorado Properties - 1140 Capitol St.\, #101 in Eagle</span><br style="color: rgb(105\, 105\, 105)\; font-family: arial\; font-size: 16px\; background-color: rgb(255\, 255\, 255)\;" />\n<span style="color: rgb(105\, 105\, 105)\; font-family: arial\; font-size: 16px\; background-color: rgb(255\, 255\, 255)\;">-Canela Coffee and Pastry Shop - 228 Broadway in Eagle</span><br style="color: rgb(105\, 105\, 105)\; font-family: arial\; font-size: 16px\; background-color: rgb(255\, 255\, 255)\;" />\n<span style="color: rgb(105\, 105\, 105)\; font-family: arial\; font-size: 16px\; background-color: rgb(255\, 255\, 255)\;">-Capitol Public House - 1099 Capitol Street in Eagle</span><br style="color: rgb(105\, 105\, 105)\; font-family: arial\; font-size: 16px\; background-color: rgb(255\, 255\, 255)\;" />\n<span style="color: rgb(105\, 105\, 105)\; font-family: arial\; font-size: 16px\; background-color: rgb(255\, 255\, 255)\;">-Copy Plus - 960 Chambers Avenue in Eagle</span><br style="color: rgb(105\, 105\, 105)\; font-family: arial\; font-size: 16px\; background-color: rgb(255\, 255\, 255)\;" />\n<span style="color: rgb(105\, 105\, 105)\; font-family: arial\; font-size: 16px\; background-color: rgb(255\, 255\, 255)\;">-Designs by Vikki - 105 Capitol Street\, Suite 1 in Eagle</span><br style="color: rgb(105\, 105\, 105)\; font-family: arial\; font-size: 16px\; background-color: rgb(255\, 255\, 255)\;" />\n<span style="color: rgb(105\, 105\, 105)\; font-family: arial\; font-size: 16px\; background-color: rgb(255\, 255\, 255)\;">-Edward Jones - 35 Lindbergh Drive\, Suite 101 in Gypsum</span><br style="color: rgb(105\, 105\, 105)\; font-family: arial\; font-size: 16px\; background-color: rgb(255\, 255\, 255)\;" />\n<span style="color: rgb(105\, 105\, 105)\; font-family: arial\; font-size: 16px\; background-color: rgb(255\, 255\, 255)\;">-Flower Hound - 115 E. Second Street in Eagle</span><br style="color: rgb(105\, 105\, 105)\; font-family: arial\; font-size: 16px\; background-color: rgb(255\, 255\, 255)\;" />\n<span style="color: rgb(105\, 105\, 105)\; font-family: arial\; font-size: 16px\; background-color: rgb(255\, 255\, 255)\;">-FOODsmith - 318 Broadway in Eagle</span><br style="color: rgb(105\, 105\, 105)\; font-family: arial\; font-size: 16px\; background-color: rgb(255\, 255\, 255)\;" />\n<span style="color: rgb(105\, 105\, 105)\; font-family: arial\; font-size: 16px\; background-color: rgb(255\, 255\, 255)\;">-Grand Avenue Grill - 678 Grand Avenue in Eagle</span><br style="color: rgb(105\, 105\, 105)\; font-family: arial\; font-size: 16px\; background-color: rgb(255\, 255\, 255)\;" />\n<span style="color: rgb(105\, 105\, 105)\; font-family: arial\; font-size: 16px\; background-color: rgb(255\, 255\, 255)\;">-Mountain Animal Hospital Center - 341 Broadway in Eagle</span><br style="color: rgb(105\, 105\, 105)\; font-family: arial\; font-size: 16px\; background-color: rgb(255\, 255\, 255)\;" />\n<span style="color: rgb(105\, 105\, 105)\; font-family: arial\; font-size: 16px\; background-color: rgb(255\, 255\, 255)\;">-Natural Balance Spa - 200 Capitol Street\, Suite 201 in Eagle</span><br style="color: rgb(105\, 105\, 105)\; font-family: arial\; font-size: 16px\; background-color: rgb(255\, 255\, 255)\;" />\n<span style="color: rgb(105\, 105\, 105)\; font-family: arial\; font-size: 16px\; background-color: rgb(255\, 255\, 255)\;">-Pazzo&#39\;s Pizzeria - 0050 Chambers Avenue in Eagle</span><br style="color: rgb(105\, 105\, 105)\; font-family: arial\; font-size: 16px\; background-color: rgb(255\, 255\, 255)\;" />\n<span style="color: rgb(105\, 105\, 105)\; font-family: arial\; font-size: 16px\; background-color: rgb(255\, 255\, 255)\;">-Red Canyon Cafe - 128 Broadway in Eagle</span><br style="color: rgb(105\, 105\, 105)\; font-family: arial\; font-size: 16px\; background-color: rgb(255\, 255\, 255)\;" />\n<span style="color: rgb(105\, 105\, 105)\; font-family: arial\; font-size: 16px\; background-color: rgb(255\, 255\, 255)\;">-Sweet Leaf Pioneer - 825 Chambers Avenue in Eagle</span><br style="color: rgb(105\, 105\, 105)\; font-family: arial\; font-size: 16px\; background-color: rgb(255\, 255\, 255)\;" />\n<span style="color: rgb(105\, 105\, 105)\; font-family: arial\; font-size: 16px\; background-color: rgb(255\, 255\, 255)\;">-Town of Eagle - 200 Broadway in Eagle</span><br style="color: rgb(105\, 105\, 105)\; font-family: arial\; font-size: 16px\; background-color: rgb(255\, 255\, 255)\;" />\n<span style="color: rgb(105\, 105\, 105)\; font-family: arial\; font-size: 16px\; background-color: rgb(255\, 255\, 255)\;">-Twisted Root Bistro - 313 Chambers Avenue\, Suite G in Eagle</span><br style="color: rgb(105\, 105\, 105)\; font-family: arial\; font-size: 16px\; background-color: rgb(255\, 255\, 255)\;" />\n<span style="color: rgb(105\, 105\, 105)\; font-family: arial\; font-size: 16px\; background-color: rgb(255\, 255\, 255)\;">-Vintage Green - 410 Broadway in Eagle</span><br style="color: rgb(105\, 105\, 105)\; font-family: arial\; font-size: 16px\; background-color: rgb(255\, 255\, 255)\;" />\n<span style="color: rgb(105\, 105\, 105)\; font-family: arial\; font-size: 16px\; background-color: rgb(255\, 255\, 255)\;">&nbsp\;</span><br />\n<span style="font-family:arial\;"><span style="color:#696969\;"><strong><span style="font-size:18px\;">Eagle Chamber Wassailfest History</span></strong><br />\n<br />\n<span style="font-size:16px\;">In 2015\, Eagle Wassailfest was added to the Eagle Chamber&#39\;s activities.&nbsp\;<br />\n<br />\nWhat is Wassail (sounds like &#39\;wassle&#39\;)?<br />\n<br />\nIn Old English\, the word meant &#39\;be you healthy&#39\;\; it came to be known as hot mulled cider. Traditionally\, sipped during wassailing\, a medieval ritual intended to ensure a good cider apple harvest the following year.&nbsp\;<br />\n<br />\nKnapp Harvest was crowned 2023 and 2022 WassailMeister as more wassailers voted in favor of their secrete recipe. Knapp Harvest was awarded the coveted Wassailfest Trophy\, which is held for one year. The furry wassail squirrel\, handed over to Knapp Harvest from 2021 WassailMeister ROAM. Adrienne Cavallario of ROAM EAGLE\, named the wassail squirrel &#39\;Andy&#39\;\, to honor the memory of beloved Andy Jessen of Bonfire Brewing. Bonfire Brewing was named 2020&#39\;s WassailMeister.&nbsp\;</span></span></span><br />\n&nbsp\;</p>\n
LOCATION:
UID:e.2268.3249
SEQUENCE:3
DTSTAMP:20260423T171503Z
URL:https://business.eaglechamber.co/events/details/wassailfest-3249
END:VEVENT

END:VCALENDAR
