BEGIN:VCALENDAR
VERSION:2.0
PRODID:-//ChamberMaster//Event Calendar 2.0//EN
METHOD:PUBLISH
X-PUBLISHED-TTL:P3D
REFRESH-INTERVAL:P3D
CALSCALE:GREGORIAN
BEGIN:VEVENT
DTSTART;VALUE=DATE:20171130
DTEND;VALUE=DATE:20171203
TRANSP:TRANSPARENT
X-MICROSOFT-CDO-ALLDAYEVENT:TRUE
SUMMARY:Wassailfest\, Eagle\, CO November 30 - December 2
DESCRIPTION:Business registration form - click here!\n\nChristmas on Broadway has been a beloved Christmas tradition in Eagle for more than a quarter century. Bringing the community together during the winter to meet\, great and visit many local businesses. In recent years the Eagle Chamber has expanded the parade\, added live music and a bonfire in the park.\n\n3rd Annual WASSAILFEST!\n\nWhat is Wassail (sounds like 'wassle')?\n\nIn Old English\, the word meant 'be you healthy'\; it came to be known as hot mulled cider\, traditionally drunk during wassailing\, a medieval ritual intended to ensure a good cider apple harvest the following year.\n\n What do you do during Eagle Wassailfest?\n\nDrink Wassail of course ? to the ?health? of Eagle! From December 1-3\, local Eagle businesses will serve up their own secret version of Wassail.\n\nWassailers are encouraged to taste at least 12 types of Wassail at different locations and fill their ?12 Sips of Wassail Card.? Once the card is completed (each entry validated by the participating business) guests are encouraged to take their cards to Circle-A Auto Repair by Friday\, December 1\, 5 p.m. and receive a hand-made ornament.  On Saturday\, bring the completed cards to parade central from 4 - 5:30 p.m. to receive an ornament\; while they last!\n\n\n\nThe winning business will be awarded the coveted Eagle Wassailfest trophy\, which is held for one year.
X-ALT-DESC;FMTTYPE=text/html:<p style="font-family: Georgia\, &quot\;Times New Roman&quot\;\, &quot\;Bitstream Charter&quot\;\, Times\, serif\; font-size: 16px\; line-height: 24px\; text-align: center\;"><span style="font-size:18px\;"><strong>Business registration form</strong> - <strong><a href="https://chambermaster.blob.core.windows.net/userfiles/UserFiles/chambers/2268/File/WASSAILFESTREGFORM-10.19.17docx.pdf">click here!</a></strong></span></p>\n\n<p style="font-family: Georgia\, &quot\;Times New Roman&quot\;\, &quot\;Bitstream Charter&quot\;\, Times\, serif\; font-size: 16px\; line-height: 24px\;">Christmas on Broadway has been a beloved Christmas tradition in Eagle for more than a quarter century. Bringing the community together&nbsp\;during the winter to meet\, great and visit many local businesses. In recent years the Eagle Chamber has&nbsp\;expanded the parade\, added live music and a bonfire in the park.</p>\n\n<p style="font-family: Georgia\, 'Times New Roman'\, 'Bitstream Charter'\, Times\, serif\; font-size: 16px\; line-height: 24px\;">3rd Annual&nbsp\;WASSAILFEST!</p>\n\n<p style="font-family: Georgia\, 'Times New Roman'\, 'Bitstream Charter'\, Times\, serif\; font-size: 16px\; line-height: 24px\;"><strong>What is Wassail (sounds like &#39\;wassle&#39\;)?</strong></p>\n\n<p style="font-family: Georgia\, 'Times New Roman'\, 'Bitstream Charter'\, Times\, serif\; font-size: 16px\; line-height: 24px\;">In Old English\, the word meant &#39\;be you healthy&#39\;\; it came to be known as hot&nbsp\;<a data-mce-href="https://en.wikipedia.org/wiki/Mulling_spices" href="https://en.wikipedia.org/wiki/Mulling_spices">mulled</a>&nbsp\;<a data-mce-href="https://en.wikipedia.org/wiki/Cider" href="https://en.wikipedia.org/wiki/Cider">cider</a>\, traditionally drunk during&nbsp\;<a data-mce-href="https://en.wikipedia.org/wiki/Wassailing" href="https://en.wikipedia.org/wiki/Wassailing">wassailing</a>\, a medieval ritual intended to ensure a good cider apple harvest the following year.</p>\n\n<p style="font-family: Georgia\, 'Times New Roman'\, 'Bitstream Charter'\, Times\, serif\; font-size: 16px\; line-height: 24px\;"><strong>&nbsp\;</strong><strong>What do you do during Eagle Wassailfest?</strong></p>\n\n<p style="font-family: Georgia\, 'Times New Roman'\, 'Bitstream Charter'\, Times\, serif\; font-size: 16px\; line-height: 24px\;">Drink Wassail of course ? to the ?health? of Eagle!&nbsp\;From December 1-3\, local Eagle businesses will serve up their own secret version of Wassail.</p>\n\n<p style="font-family: Georgia\, 'Times New Roman'\, 'Bitstream Charter'\, Times\, serif\; font-size: 16px\; line-height: 24px\;">Wassailers&nbsp\;are encouraged to taste at least 12 types of Wassail at different locations and fill their ?12 Sips of Wassail Card.? Once the card is completed <em>(each entry validated by the participating business) </em>guests are encouraged to take their cards to Circle-A Auto Repair by Friday\, December 1\, 5 p.m. and receive a hand-made ornament.&nbsp\; On Saturday\, bring the completed cards to parade central from 4 - 5:30 p.m. to receive an ornament\; while they last!<br />\n<br />\nThe winning business will be awarded the coveted Eagle Wassailfest trophy\, which is held for one year.</p>\n
LOCATION:Participating Businesses: 7 Hermits Brewing Co. 1020 Capitol Street\, Eagle Ranch A Good Sport Co. 422 McIntire (4th & Highway 6) Alpine Bank 205 E Chambers Avenue Alpine Party Rental 315 Spring Creek Circle\, Gypsum ARTSPaCE 120 Broadway Axis Sports Medicine 1143 Capitol Street\, Eagle Ranch Batsons Corner - your Nearly Everything Store 301 Broadway Berkshire Hathaway Home Services 1140 Capitol Street\, Eagle Ranch Bonfire Brewing 127 W. Second Street Boone's Wine and Spirits 65 Market Street Castle Peak Senior Life & Rehabilitation 195 Freestone Road\, Eagle Ranch Circle-A Auto Repair 55 Eagle Park E. Drive Color Coffee Roasters 717 Sylvan Lake Road\, Eagle Ranch Dewey Dabbles in Art 50 Chambers Avenue Dusty Boot 1099 Capitol Street\, Eagle Ranch Eagle Information Center 100 Fairgrounds Round Everyday Outfitters 330 Broadway The Find 233 Broadway Jules 132 Broadway Martin Insurance Group 1160 Capitol Street\, Ste 3 (Side door)\, Eagle Ranch Mountain Mobile Veterinary Service & The Animal Hospital Center 341 Broadway Owashi 223 Broadway Peridot Hair Design 1020 Capitol Street\, Unit 3 (off Founders)\, Eagle Ranch Pickup's Pizza 422 McIntire (Highway 6) Red Canyon Cafe 128 Broadway Sweet Leaf Pioneer LLC 1286 Chambers Avenue #101 Vail Valley Real Estate 217 Broadway Yeti's Grind 330 Broadway
UID:e.2268.1005
SEQUENCE:3
DTSTAMP:20260423T085844Z
URL:https://business.eaglechamber.co/events/details/wassailfest-eagle-co-november-30-december-2-1005
END:VEVENT

END:VCALENDAR
