BEGIN:VCALENDAR
VERSION:2.0
PRODID:-//ChamberMaster//Event Calendar 2.0//EN
METHOD:PUBLISH
X-PUBLISHED-TTL:P3D
REFRESH-INTERVAL:P3D
CALSCALE:GREGORIAN
BEGIN:VEVENT
DTSTART:20220910T160000Z
DTEND:20220910T210000Z
X-MICROSOFT-CDO-ALLDAYEVENT:FALSE
SUMMARY:Werk's Auto & Diesel Repair LLC 13th Annual Customer Appreciation Event
DESCRIPTION:Werk's Auto & Diesel Repair welcomes everyone to our 13TH ANNUAL CUSTOMER APPRECIATION & CAR SHOW EVENT! Free BBQ\, great prizes\, CARSHOW\, food drive\, live music and lots of fun! All who bring a food drive donation are entered into a drawing to win a 50" Smart TV! Many more prizes! Werk's Auto and Diesel is celebrating 13 years in business and want to thank our customers' family and fiends. Car show entry is free but asking all participants bring a $20 food donation for the food drive. Come enjoy a Saturday afternoon of cars\, food and fun!\nLocation is 695 Lindbergh Drive in Gypsum\, CO. 81637. Two blocks east of Costco.
X-ALT-DESC;FMTTYPE=text/html:Werk&#39\;s Auto &amp\; Diesel Repair welcomes everyone to our 13TH ANNUAL CUSTOMER APPRECIATION &amp\; CAR SHOW EVENT! Free BBQ\, great prizes\, CARSHOW\, food drive\, live music and lots of fun! All who bring a food drive donation are entered into a drawing to win a 50&quot\; Smart TV! Many more prizes! Werk&#39\;s Auto and Diesel is celebrating 13 years in business and want to thank our customers&#39\; family and fiends. Car show entry is free but asking all participants bring a $20 food donation for the food drive. Come enjoy a Saturday afternoon of cars\, food and fun!\n<div>Location is 695 Lindbergh Drive in Gypsum\, CO. 81637. Two blocks east of Costco.</div>\n
LOCATION:
UID:e.2268.1472
SEQUENCE:3
DTSTAMP:20260425T190511Z
URL:https://business.eaglechamber.co/events/details/werk-s-auto-diesel-repair-llc-13th-annual-customer-appreciation-event-1472
END:VEVENT

END:VCALENDAR
